BEGIN:VCALENDAR
VERSION:2.0
PRODID:-//Camp Hale Weddings - ECPv6.15.20//NONSGML v1.0//EN
CALSCALE:GREGORIAN
METHOD:PUBLISH
X-WR-CALNAME:Camp Hale Weddings
X-ORIGINAL-URL:https://www.camphaleweddings.com
X-WR-CALDESC:Events for Camp Hale Weddings
REFRESH-INTERVAL;VALUE=DURATION:PT1H
X-Robots-Tag:noindex
X-PUBLISHED-TTL:PT1H
BEGIN:VTIMEZONE
TZID:America/Denver
BEGIN:DAYLIGHT
TZOFFSETFROM:-0700
TZOFFSETTO:-0600
TZNAME:MDT
DTSTART:20240310T090000
END:DAYLIGHT
BEGIN:STANDARD
TZOFFSETFROM:-0600
TZOFFSETTO:-0700
TZNAME:MST
DTSTART:20241103T080000
END:STANDARD
BEGIN:DAYLIGHT
TZOFFSETFROM:-0700
TZOFFSETTO:-0600
TZNAME:MDT
DTSTART:20250309T090000
END:DAYLIGHT
BEGIN:STANDARD
TZOFFSETFROM:-0600
TZOFFSETTO:-0700
TZNAME:MST
DTSTART:20251102T080000
END:STANDARD
BEGIN:DAYLIGHT
TZOFFSETFROM:-0700
TZOFFSETTO:-0600
TZNAME:MDT
DTSTART:20260308T090000
END:DAYLIGHT
BEGIN:STANDARD
TZOFFSETFROM:-0600
TZOFFSETTO:-0700
TZNAME:MST
DTSTART:20261101T080000
END:STANDARD
END:VTIMEZONE
BEGIN:VEVENT
DTSTART;VALUE=DATE:20250906
DTEND;VALUE=DATE:20250907
DTSTAMP:20260424T033208
CREATED:20241029T141029Z
LAST-MODIFIED:20241029T141029Z
UID:1043-1757116800-1757203199@www.camphaleweddings.com
SUMMARY:Booked - Private Event
DESCRIPTION:
URL:https://www.camphaleweddings.com/event/booked-private-event-15/
LOCATION:CO
END:VEVENT
BEGIN:VEVENT
DTSTART;VALUE=DATE:20250912
DTEND;VALUE=DATE:20250913
DTSTAMP:20260424T033208
CREATED:20250320T000111Z
LAST-MODIFIED:20250320T000111Z
UID:1180-1757635200-1757721599@www.camphaleweddings.com
SUMMARY:Booked – Private Event
DESCRIPTION:
URL:https://www.camphaleweddings.com/event/booked-private-event-47/
LOCATION:Camp Hale Weddings\, 7088 Hwy 24\, Red Cliff\, CO\, 81649\, United States
END:VEVENT
BEGIN:VEVENT
DTSTART;VALUE=DATE:20250913
DTEND;VALUE=DATE:20250914
DTSTAMP:20260424T033208
CREATED:20241108T220206Z
LAST-MODIFIED:20241108T220206Z
UID:1073-1757721600-1757807999@www.camphaleweddings.com
SUMMARY:Booked - Private Event
DESCRIPTION:
URL:https://www.camphaleweddings.com/event/booked-private-event-27/
LOCATION:Camp Hale Weddings\, 7088 Hwy 24\, Red Cliff\, CO\, 81649\, United States
END:VEVENT
BEGIN:VEVENT
DTSTART;VALUE=DATE:20250914
DTEND;VALUE=DATE:20250915
DTSTAMP:20260424T033208
CREATED:20241108T220224Z
LAST-MODIFIED:20241108T220224Z
UID:1074-1757808000-1757894399@www.camphaleweddings.com
SUMMARY:Booked - Private Event
DESCRIPTION:
URL:https://www.camphaleweddings.com/event/booked-private-event-28/
LOCATION:Camp Hale Weddings\, 7088 Hwy 24\, Red Cliff\, CO\, 81649\, United States
END:VEVENT
BEGIN:VEVENT
DTSTART;VALUE=DATE:20250919
DTEND;VALUE=DATE:20250920
DTSTAMP:20260424T033208
CREATED:20241108T220249Z
LAST-MODIFIED:20241108T220249Z
UID:1075-1758240000-1758326399@www.camphaleweddings.com
SUMMARY:Booked - Private Event
DESCRIPTION:
URL:https://www.camphaleweddings.com/event/booked-private-event-29/
LOCATION:Camp Hale Weddings\, 7088 Hwy 24\, Red Cliff\, CO\, 81649\, United States
END:VEVENT
BEGIN:VEVENT
DTSTART;VALUE=DATE:20250920
DTEND;VALUE=DATE:20250921
DTSTAMP:20260424T033208
CREATED:20241108T220312Z
LAST-MODIFIED:20241108T220312Z
UID:1076-1758326400-1758412799@www.camphaleweddings.com
SUMMARY:Booked - Private Event
DESCRIPTION:
URL:https://www.camphaleweddings.com/event/booked-private-event-30/
LOCATION:Camp Hale Weddings\, 7088 Hwy 24\, Red Cliff\, CO\, 81649\, United States
END:VEVENT
BEGIN:VEVENT
DTSTART;VALUE=DATE:20250925
DTEND;VALUE=DATE:20250926
DTSTAMP:20260424T033208
CREATED:20241108T220342Z
LAST-MODIFIED:20241108T220342Z
UID:1077-1758758400-1758844799@www.camphaleweddings.com
SUMMARY:Booked - Private Event
DESCRIPTION:
URL:https://www.camphaleweddings.com/event/booked-private-event-31/
LOCATION:Camp Hale Weddings\, 7088 Hwy 24\, Red Cliff\, CO\, 81649\, United States
END:VEVENT
BEGIN:VEVENT
DTSTART;VALUE=DATE:20250927
DTEND;VALUE=DATE:20250928
DTSTAMP:20260424T033208
CREATED:20241108T220402Z
LAST-MODIFIED:20241108T220402Z
UID:1078-1758931200-1759017599@www.camphaleweddings.com
SUMMARY:Booked - Private Event
DESCRIPTION:
URL:https://www.camphaleweddings.com/event/booked-private-event-32/
LOCATION:Camp Hale Weddings\, 7088 Hwy 24\, Red Cliff\, CO\, 81649\, United States
END:VEVENT
BEGIN:VEVENT
DTSTART;VALUE=DATE:20250929
DTEND;VALUE=DATE:20250930
DTSTAMP:20260424T033208
CREATED:20250121T171553Z
LAST-MODIFIED:20250121T172240Z
UID:1160-1759104000-1759190399@www.camphaleweddings.com
SUMMARY:Booked - Private Event
DESCRIPTION:
URL:https://www.camphaleweddings.com/event/booked-private-event-38/
LOCATION:Camp Hale Weddings\, 7088 Hwy 24\, Red Cliff\, CO\, 81649\, United States
END:VEVENT
END:VCALENDAR